BEGIN:VCALENDAR
VERSION:2.0
PRODID:Imitheme.com 
BEGIN:VEVENT
UID:20260420T0909031988040805
DTSTAMP;TZID=UTC:2026-04-20 09:09:03
DTSTART;TZID=America/Los_Angeles:20250224T000000
DTEND;TZID=America/Los_Angeles:20250224T000000
SUMMARY:Pisces Karaoke
LOCATION:
DESCRIPTION:Sing a song by your favorite pisces artists for your chance to win one of our raffle prizes! Sign ups start at 9pm. Raffle Drawing at Midnight. $5 Cans $4 SHOTS (Malort, Jameson, Fireball) $3 Bud Lights
URL:https://replayandersonville.com/eventer/pisces-karaoke/
END:VEVENT
END:VCALENDAR
